BEGIN:VCALENDAR
PRODID:-//Det Danske Spejderkorps//NONSGML Gruppeweb//EN
VERSION:2.0
CALSCALE:GREGORIAN
X-PUBLISHED-TTL:PT1H
X-WR-CALNAME:Ledelse
METHOD:PUBLISH
BEGIN:VEVENT
UID:gruppeweb.dk:7215:event:381
DTSTAMP:20260421T090544Z
LAST-MODIFIED:20250611T170925Z
SUMMARY:Ledermøde
DESCRIPTION:Ledermøde primært om ledersituationen næste år\, samt opryk
 ning og  \nsensommerfrokost.\n\nVi mødes og spiser sammen kl. 18.15\, og 
 holder møde fra kl. 19.\n\n\n
URL:https://www.giberaagruppe.dk/begivenhed/ledermoede-12
DTSTART:20250618T161500Z
DTEND:20250618T190000Z
LOCATION:Giber Å Gruppe\, Nymarksvej 4\, 8320 Mårslet
END:VEVENT
BEGIN:VEVENT
UID:gruppeweb.dk:7215:event:410
DTSTAMP:20260421T090544Z
LAST-MODIFIED:20260214T152455Z
SUMMARY:Ledermøde (kopi)
DESCRIPTION:Ledermøde primært om ledersituationen næste år\, samt opryk
 ning og  \nsensommerfrokost.\n\nVi mødes og spiser sammen kl. 18.15\, og 
 holder møde fra kl. 19.\n\n\n
URL:https://www.giberaagruppe.dk/begivenhed/ledermoede-kopi
DTSTART:20250618T161500Z
DTEND:20250618T190000Z
LOCATION:Giber Å Gruppe\, Nymarksvej 4\, 8320 Mårslet
END:VEVENT
BEGIN:VEVENT
UID:gruppeweb.dk:7215:event:409
DTSTAMP:20260421T090544Z
LAST-MODIFIED:20260214T152453Z
SUMMARY:Ledermøde
DESCRIPTION: Vi mødes og spiser sammen kl. 18.15\, og holder møde fra kl
 . 19.\n\n\n
URL:https://www.giberaagruppe.dk/begivenhed/ledermoede-13
DTSTART:20250924T161500Z
DTEND:20250924T190000Z
LOCATION:Giber Å Gruppe\, Nymarksvej 4\, 8320 Mårslet
END:VEVENT
BEGIN:VEVENT
UID:gruppeweb.dk:7215:event:412
DTSTAMP:20260421T090544Z
LAST-MODIFIED:20260214T152449Z
SUMMARY:Gruppearrangement - ikke familiespejdere
DESCRIPTION:For andet år afholder vi et efterårsarrangement for alle spej
 dere i hele  \ngruppen. Store og små hjælper hinanden med at lave en læ
 kker frokost\, som  \nvi så hygger os med sammen.\n\nVi mødes ved spejde
 rhuset kl. 10\, spiser kl. 12.30 og er færdige kl. 14.\n\nHåber at se ma
 nge til en hyggelig sensommer spejderdag. \n\n\nSpejderhilsner\n\nLederne
 \n\n
URL:https://www.giberaagruppe.dk/begivenhed/gruppearrangement-ikke-families
 pejdere-0
DTSTART:20251005T080000Z
DTEND:20251005T120000Z
LOCATION:Giber Å Gruppe\, Nymarksvej 4\, 8320 Mårslet
END:VEVENT
BEGIN:VEVENT
UID:gruppeweb.dk:7215:event:420
DTSTAMP:20260421T090544Z
LAST-MODIFIED:20260111T183308Z
SUMMARY:Udviklingsweekend - Ledere\, bestyrelse og klan
DESCRIPTION:I år bliver det lidt anderledes\, da vi lørdag formiddag delt
 ager i en  \nworkshop om udviklingsplaner\, som divisionen arrangerer. Nå
 r vi kommer til  \nTemnæs lørdag over middag\, skal vi arbejde med leder
 håndbog\,  \nlederrekruttering\, gruppetur og grupperådsmøde.\nSøndag 
 spiser vi morgenmad\, rydder vi op og tager hjem.\n
URL:https://www.giberaagruppe.dk/begivenhed/udviklingsweekend-ledere-bestyr
 else-og-klan-1
DTSTART:20260117T073000Z
DTEND:20260118T100000Z
LOCATION:Temnæs\, Temnæsvej 9\, 8660 Skanderborg
END:VEVENT
BEGIN:VEVENT
UID:gruppeweb.dk:7215:event:423
DTSTAMP:20260421T090544Z
LAST-MODIFIED:20260216T082315Z
SUMMARY:Ledermøde
DESCRIPTION: Vi mødes og spiser sammen kl. 18.15\, og holder møde fra kl
 . 19.\n\n\n
URL:https://www.giberaagruppe.dk/begivenhed/ledermoede-14
DTSTART:20260216T171500Z
DTEND:20260216T203000Z
LOCATION:Giber Å Gruppe\, Nymarksvej 4\, 8320 Mårslet
END:VEVENT
END:VCALENDAR
