BEGIN:VCALENDAR
PRODID:-//Det Danske Spejderkorps//NONSGML Gruppeweb//EN
VERSION:2.0
CALSCALE:GREGORIAN
X-PUBLISHED-TTL:PT1H
X-WR-CALNAME:Familiespejd - haletudser
METHOD:PUBLISH
BEGIN:VEVENT
UID:gruppeweb.dk:7215:event:372
DTSTAMP:20260424T155209Z
LAST-MODIFIED:20260214T152615Z
SUMMARY:Haletudsemøde - Trøsterløb i Mårslet
DESCRIPTION:Vi mødes ved spejderhytten kl. 9 og slutter samme sted kl. 11.
 30.\n\nVi starter på trøster-mærket som er 1. hjælp på familiespejder
 niveau.\nMødet er et lille løb rundt i Mårslet (ca 3 km).\n\nI må mege
 t gerne medbringe noget vintertøj i en pose.\n\n\nSpejderhilsner\n\n\nLed
 erne\n\n
URL:https://www.giberaagruppe.dk/begivenhed/haletudsemoede-troesterloeb-i-m
 aarslet
DTSTART:20250504T070000Z
DTEND:20250504T093000Z
LOCATION:Giber Å Gruppe\, Nymarksvej 4\, 8320 Mårslet
END:VEVENT
BEGIN:VEVENT
UID:gruppeweb.dk:7215:event:379
DTSTAMP:20260424T155209Z
LAST-MODIFIED:20250522T165642Z
SUMMARY:Sommertur til Ravnsø 2025
DESCRIPTION:Frøer mødes ved Ravnsøhytten (Hyllingvej 16\, 8680 Ry) freda
 g kl. 17 og  \nHaletudserne støder til lørdag kl. 10.00. (Skriv i kommen
 tarfeltet\, hvis I  \nhar brug for et lift).\n\nVi slutter samlet søndag 
 kl. 11.\n\nVi skal sejle i kano og lave mad over bål\, sove i telt og meg
 et mere.\n\nPris for et barn og en voksen er 300\,- for Frøer\, og 200\,-
  for Haletudser.\n\nMan må gerne komme 2 voksne og 2 børn pr familie men
 \, det er ikke sikkert\,  \nat der er plads til søskende og ekstra foræl
 dre i kanoerne.\n\nVi  er ude det meste af turen\, men er vejret meget d
 årligt\, har vi mulighed  \nfor at gå ind i hytten. \nMedbring sovepose
 \, liggeunderlag\, kop\, tallerkner\, bestik\, toiletsager og  \ntøj der 
 passer til vejret (herunder regntøj og badetøj\, hvis man vil bade)  \ns
 amt lidt voksenhygge til når børnene er faldet til ro.\n\n\nVi glæder o
 s til at være sammen med jer\n\nFamiliespejd-lederne\n\n\n\n
URL:https://www.giberaagruppe.dk/begivenhed/sommertur-til-ravnsoe-2025
DTSTART:20250606T150000Z
DTEND:20250608T090000Z
LOCATION:Ravnsøhytten\, Hyllingvej 16\, 8680 Ry
END:VEVENT
BEGIN:VEVENT
UID:gruppeweb.dk:7215:event:386
DTSTAMP:20260424T155209Z
LAST-MODIFIED:20250909T175706Z
SUMMARY:Haletudsemøde - Æbler
DESCRIPTION:Vi mødes ved spejderhytten kl. 9 og slutter samme sted kl. 11.
 30\n\n\nSpejderhilsner\n\n\nLederne\n\n
URL:https://www.giberaagruppe.dk/begivenhed/haletudsemoede-aebler
DTSTART:20250928T070000Z
DTEND:20250928T093000Z
LOCATION:Giber Å Gruppe\, Nymarksvej 4\, 8320 Mårslet
END:VEVENT
BEGIN:VEVENT
UID:gruppeweb.dk:7215:event:385
DTSTAMP:20260424T155209Z
LAST-MODIFIED:20250909T175705Z
SUMMARY:Haletudsemøde - Kniv\, bål og knob
DESCRIPTION:Vi mødes ved spejderhytten kl. 9 og slutter samme sted kl. 11.
 30\n\n\nSpejderhilsner\n\n\nLederne\n\n
URL:https://www.giberaagruppe.dk/begivenhed/haletudsemoede-kniv-baal-og-kno
 b
DTSTART:20251026T080000Z
DTEND:20251026T103000Z
LOCATION:Giber Å Gruppe\, Nymarksvej 4\, 8320 Mårslet
END:VEVENT
BEGIN:VEVENT
UID:gruppeweb.dk:7215:event:387
DTSTAMP:20260424T155209Z
LAST-MODIFIED:20250909T175704Z
SUMMARY:Haletudsemøde - Spejderjul
DESCRIPTION:Vi mødes ved spejderhytten kl. 9 og slutter samme sted kl. 11\
 n\n\nSpejderhilsner\n\n\nLederne\n\n
URL:https://www.giberaagruppe.dk/begivenhed/haletudsemoede-spejderjul
DTSTART:20251123T080000Z
DTEND:20251123T100000Z
LOCATION:Giber Å Gruppe\, Nymarksvej 4\, 8320 Mårslet
END:VEVENT
BEGIN:VEVENT
UID:gruppeweb.dk:7215:event:388
DTSTAMP:20260424T155209Z
LAST-MODIFIED:20250909T133642Z
SUMMARY:Haletudsemøde - Stranden ved Hørhaven
DESCRIPTION:Vi mødes på parkeringspladsen ved Peter Sabroes Minde (Ørne
 redevej 23\,  \n8270 Højbjerg) kl\, 9 og slutter samme sted kl. 11.\n\n\n
 Spejderhilsner\n\n\nLederne\n\n
URL:https://www.giberaagruppe.dk/begivenhed/haletudsemoede-stranden-ved-hoe
 rhaven
DTSTART:20260118T080000Z
DTEND:20260118T100000Z
LOCATION:Peter Sabroes Minde\, Ørneredevej 23\, 8270 Højbjerg
END:VEVENT
BEGIN:VEVENT
UID:gruppeweb.dk:7215:event:391
DTSTAMP:20260424T155209Z
LAST-MODIFIED:20250909T175707Z
SUMMARY:Haletudsemøde - Legemester
DESCRIPTION:Vi mødes ved spejderhytten kl. 9 og slutter samme sted kl. 11.
 \n\n\nSpejderhilsner\n\n\nLederne\n\n
URL:https://www.giberaagruppe.dk/begivenhed/haletudsemoede-legemester
DTSTART:20260222T080000Z
DTEND:20260222T100000Z
LOCATION:Giber Å Gruppe\, Nymarksvej 4\, 8320 Mårslet
END:VEVENT
BEGIN:VEVENT
UID:gruppeweb.dk:7215:event:389
DTSTAMP:20260424T155209Z
LAST-MODIFIED:20250909T134623Z
SUMMARY:Haletudsemøde - Skovsøen
DESCRIPTION:Vi mødes ved spejderhytten kl. 9 og slutter samme sted kl. 11:
 30\n\n\nSpejderhilsner\n\n\nLederne\n\n
URL:https://www.giberaagruppe.dk/begivenhed/haletudsemoede-skovsoeen
DTSTART:20260412T070000Z
DTEND:20260412T093000Z
LOCATION:Giber Å Gruppe\, Nymarksvej 4\, 8320 Mårslet
END:VEVENT
BEGIN:VEVENT
UID:gruppeweb.dk:7215:event:392
DTSTAMP:20260424T155209Z
LAST-MODIFIED:20250909T134633Z
SUMMARY:Haletudsemøde - Trøsterløb
DESCRIPTION:Vi mødes ved Klanens sted (bålhytten bag Græsbakken Eskegå
 rdsvej 10)   \nkl. 9 og slutter samme sted kl. 11:30\n\n\nSpejderhilsner\
 n\n\nLederne\n\n
URL:https://www.giberaagruppe.dk/begivenhed/haletudsemoede-troesterloeb
DTSTART:20260510T070000Z
DTEND:20260510T093000Z
LOCATION:Klanens sted\, Eskegårdsvej 10\, 8320 Mårslet
END:VEVENT
BEGIN:VEVENT
UID:gruppeweb.dk:7215:event:396
DTSTAMP:20260424T155209Z
LAST-MODIFIED:20250909T135604Z
SUMMARY:Haletudse - Sommertur til Ravnsø
DESCRIPTION:\n
URL:https://www.giberaagruppe.dk/begivenhed/haletudse-sommertur-til-ravnsoe
DTSTART:20260613T000000Z
DTEND:20260614T090000Z
LOCATION:Ravnsøhytten\, Hyllingvej 16\, 8680 Ry
END:VEVENT
END:VCALENDAR
