BEGIN:VCALENDAR
PRODID:-//Det Danske Spejderkorps//NONSGML Gruppeweb//EN
VERSION:2.0
CALSCALE:GREGORIAN
X-PUBLISHED-TTL:PT1H
X-WR-CALNAME:Troppen
METHOD:PUBLISH
BEGIN:VEVENT
UID:gruppeweb.dk:7215:event:376
DTSTAMP:20260421T084026Z
LAST-MODIFIED:20250506T130038Z
SUMMARY:Sheltertur Trop
DESCRIPTION:Vi i tropsledelse synes det kunne være hyggeligt med en lille 
 sheltertur.\n\nDerfor vil vi gerne invitere troppen på sheltertur den 17-
 18 Maj\n\nVi skal sove i shelterne ved Baron Mosen lige udenfor Mårslet.\
 n\nDog\, for at gøre lidt mere af en tur ud af det\, så går vi en god t
 ur  \ninden\, vi regner med at skulle gå 10-15 kilometer inden. Dette bli
 ver med  \nfuld oppakning for at træne at gå med rygsæk.\n\nVi mødes v
 ed hytten kl 13:00 og deltager aktivt i gruppens arbejdsdag ind  \ntil vi 
 tager afsted i løbet af sen eftermiddag. Man kan ikke deltage på  \nture
 n hvis spejderen ikke deltager i arbejdsdagen først.\n\nVi er tilbage ved
  Giber Å Hytten søndag mellem kl 10:30 - 11:00\n\nHvad skal vi have med 
 ?\n\nHver spejder skal have en rygsæk som alle deres ting kan være i\, u
 dover  \ndet:\n\n-Vandrestøvler\n\n-Tøj til at gå i \n\n- Ekstra Vandr
 esokker\n\n- Varmt tøj til om aftenen\n\n- Liggeunderlag\n\n- Sovepose\n\
 n- Spisegrej\n\n- Personlig hygiejne ting og medicin\n\n- Pandelampe\n\n- 
 Powerbank\n\n- Mobiltelefon\n\n- Drikkesystem/ vandflaske (mindst 1 liter)
  \n\n- Snacks\n\n\nEr der andet der ikke står på listen\, men som du f
 øler vi skal have med\,  \nså tag det gerne med.\n\nVi opfordrer kraftig
 t til at spejderne pakker deres egen taske i henhold til  \nde principper 
 vi har lært dem.\n\nDerudover skal der være ekstra plads i tasken til ek
 stra grej.\n\n
URL:https://www.giberaagruppe.dk/begivenhed/sheltertur-trop
DTSTART:20250517T133000Z
DTEND:20250518T083000Z
LOCATION:Giber Å Gruppe\, Nymarksvej 4\, 8320 Mårslet
END:VEVENT
BEGIN:VEVENT
UID:gruppeweb.dk:7215:event:358
DTSTAMP:20260421T084026Z
LAST-MODIFIED:20250225T182503Z
SUMMARY:Trop - Sommerlejr 2025 Polen
DESCRIPTION:I år går troppens sommerlejr til det store udland\, og vi er 
 i fuld gang med  \nplanlægningen. Derfor kommer der nu en tilmelding og l
 idt mere information.\n\nVi tager af sted den 4. Juli om aftenen eller den
  5. juli om formiddagen og  \nregner med at komme hjem den 13. juli. Så v
 i er altså væk næsten 10 dage.\n\nTilmeldingen ligger lidt tidligt\, s
 å vi har tid til at booke transporten. Og  \nhvor er det\, vi gerne vil h
 en? Det er POLEN! Vi vil gerne til Sydpolen😉  \n(det sydlige Polen)\, t
 il en by der hedder Zakopane\, beliggende i  \nTatrabjergene. Her er der f
 lot og unik natur\, som i den grad skulle være en  \nstor oplevelse.\n\nD
 en største udfordring er\, at transporten er dyr. Vi har kigget meget på
   \nbustur\, men måske skal vi flyve. Prisen for turen bliver 3.000 kr. p
 r.  \nspejder. Vi ved godt\, at det er mange penge\, men prisen skyldes pr
 imært\, at  \ntransporten er dyr.\n\nSom noget lidt anderledes skal vi og
 så af sted sammen med to grupper\, Erik  \nden Røde og Giber Å. Begge g
 rupper er heldigvis fyldt med skønne  \ntropsspejdere og ledere.\nTilmeld
 ingen er bindene.\n\n\nHvis I gerne vil høre mere om turen\, holder vi ge
 rne et lille  \ninfomøde.Tilmeldingen er bindene.\nDer kommer selvfølgel
 ig mere information når vi kommer tættere på.\n\n
URL:https://www.giberaagruppe.dk/begivenhed/trop-sommerlejr-2025-polen
DTSTART:20250704T160000Z
DTEND:20250713T160000Z
LOCATION:Giber Å Gruppe\, Nymarksvej 4\, 8320 Mårslet
END:VEVENT
BEGIN:VEVENT
UID:gruppeweb.dk:7215:event:383
DTSTAMP:20260421T084026Z
LAST-MODIFIED:20250907T140546Z
SUMMARY:Trop Kolleuge 2025
DESCRIPTION:Kære Tropsspejder og forældre\nSå er det snart tid til året
 s kolleuge\, som i år afholdes fra søndag den  \n7/9 kl. 19.00 til lørd
 ag den 13/9 kl. 12.00\nHvis der ikke gives anden besked\, så skal spejder
 ne møde på dette  \ntidspunkt.\nSpejderne møder op søndag kl. 19 (spis
  hjemmefra!)\nSpejderne opstiller selv regler. Tropslederne har\, baseret 
 på evalueringerne  \nfra de andre år\, sat en rammerne og lavet hjælp t
 il organisering af opgaver  \nog ansvar.\nTropslederne kigger ind hver dag
  til en snak om stort og småt. Spejderne har  \nansvaret for økonomien o
 g hverdagen i fællesskab. Tropslederne er gennem  \nugen på skift tilgæ
 ngelige døgnet rundt for spejderne. Det er os\,  \nspejderne skal kontakt
 e\, hvis der opstår problemer i fællesskabet\, så  \nkontakter vi jer\,
  hvis der er behov for det.\nDet er vores erfaring at de godt kan blive me
 get trætte i løbet af ugen\,  \nså hvis man har mulighed for at tage en
  lille pause fra sport o.l. i denne  \nuge kan det være en god ide - så 
 er der også god tid til det sociale. \nKolleugerne er en øvelse i at ku
 nne klare sig selv samt at tage hånd om  \nfællesskabet. Vores erfaring 
 fra tidligere uger siger os\, at I får nogle  \nmeget trætte spejdere re
 tur. Vi ved også\, at de lærer utrolig meget om det  \ndaglige arbejde\,
  ansvar og pligter.\nAllerbedst er dog det fællesskab\, som opstår\, nå
 r spejderne har oplevet en  \nhverdag sammen og har overkommet små som st
 ore udfordringer.\nHer kommer lidt tips til pakkelisten:\n * Spejderunifor
 m og -tørklæde\n * Tøj til en uge\n * Soveposer og liggeunderlag\, evt.
  Lagen\n * Lagen\n * Sæbe til bad (shampoo\, balsam og bodyhalløj)\n * H
 åndklæde\n * Tandbørste\n * Skoletaske\, skoleting og computer\n\nOBS! 
 Der er ikke madrasser nok til alle i hytten. Så medbring eget  \nliggeund
 erlag/madras.\n\nDerudover er det ikke tilladt medbringe spillekonsoller\,
  medbring dog gerne  \nmassere af brætspil.\n\nPrisen er 300\,- som kun s
 kal bruges til mad - og som spejderne selv har  \nansvaret for.*Spejderne 
 skal have de 300\,- med i kontanter i starten af  \nugen.**\n**\n*Skriv en
 delig til os på tropsleder@giberaagruppe.dk\, hvis I har  \nspørgsmål.*
 \n*Hvis det haster\, så skriv eller ring til Emil LP\nTlf: 26 82 68 43\nS
 pejderhilsner fra alle tropslederne\n
URL:https://www.giberaagruppe.dk/begivenhed/trop-kolleuge-2025
DTSTART:20250907T170000Z
DTEND:20250913T100000Z
LOCATION:Giber Å Gruppe\, Nymarksvej 4\, 8320 Mårslet
END:VEVENT
BEGIN:VEVENT
UID:gruppeweb.dk:7215:event:412
DTSTAMP:20260421T084026Z
LAST-MODIFIED:20260214T152449Z
SUMMARY:Gruppearrangement - ikke familiespejdere
DESCRIPTION:For andet år afholder vi et efterårsarrangement for alle spej
 dere i hele  \ngruppen. Store og små hjælper hinanden med at lave en læ
 kker frokost\, som  \nvi så hygger os med sammen.\n\nVi mødes ved spejde
 rhuset kl. 10\, spiser kl. 12.30 og er færdige kl. 14.\n\nHåber at se ma
 nge til en hyggelig sensommer spejderdag. \n\n\nSpejderhilsner\n\nLederne
 \n\n
URL:https://www.giberaagruppe.dk/begivenhed/gruppearrangement-ikke-families
 pejdere-0
DTSTART:20251005T080000Z
DTEND:20251005T120000Z
LOCATION:Giber Å Gruppe\, Nymarksvej 4\, 8320 Mårslet
END:VEVENT
BEGIN:VEVENT
UID:gruppeweb.dk:7215:event:378
DTSTAMP:20260421T084026Z
LAST-MODIFIED:20260214T152605Z
SUMMARY:PLan og Plus efterår 2025
DESCRIPTION:PLan er patruljelederkurser for alle 12-16 årige spejdere. \n
 Kurserne ligger i efterårsferien\, og de er alt andet end efterårsgrå o
 g  \nkedelige.\n\nI efterårsferien 2025 afholdes 17 PLan-kurser fordelt p
 å 4 alderstrin:\n\n * PLan Start for 6. klasse (12. til 17. oktober)\n * 
 PLan 1 for 7. klasse (12. til 18. oktober)\n * PLan 2 for 8. klasse (12. t
 il 18. oktober  - OceanPlan fra den 11.)\n * PLan 3 for 9. klasse  (12. 
 til 18. oktober)\n\nOBS! Du skal kunne deltage på hele kurset!\n\nDu kan 
 læse om alle kurserne her [1]\n\n\nPULS kurserne er for seniorer fra 16 t
 il 23 år\, Læs mere om PLUS her\n[2]\n\n\nTilmelding sker ved at tilmel
 de og betale kurset i Giber Å's eget  \narrangementsystem her på siden O
 G bagefter i DDS tilmeldingssystem her  \n[3] (ved tilmelding angives Gib
 er Å Gruppe som betaler).\n\nVed tilmeldingen betales den fulde kursuspri
 s på 2.400 kr. Dette dækker  \nkursusafgift\, overnatning\, mad og trans
 port.\nI skal selv sørge for samt lægge ud for transporten. Udlæg til t
 ransport  \n(den billigst mulige med offentlige transportmidler) refundere
 s af gruppens  \nkasserer ved aflevering af bilag og kontonr.\n\nSåfremt 
 kurset gennemføres og spejderen kommer tilbage til kasseren med en  \nudf
 yldt og underskrevet SAMRÅDS-blanket [4]\, kan gruppen få 75% af  \nkurs
 usprisen refunderet af Aarhus Kommune. Dette tilskud får I naturligvis  \
 nretur (husk også at aflevere kontonr. til kassereren). Den samlede netto
 pris  \nfor PLan ender derefter på 600 kr. for spejderen. Såfremt SAMRÅ
 DS  \nblanketten ikke returneres til kasseren i korrekt udfyldt stand\, ka
 n gruppen  \nikke få tilskud fra Aarhus Kommune\, og vi kan derfor ikke r
 efundere de  \n1800\,-. Ved ikke-gennemført kursus pga. sygdom giver komm
 unen ingen tilskud.  \nGruppen refunderer dog 900 kr. ved ikke-gennemført
  kursus pga. sygdom.  \n\n\n[1] https://dds.dk/plan\n[2] https://dds.dk/a
 rtikel/plus-16-23-ar-praktisk-info\n[3] https://medlem.dds.dk/event/id/617
 06/register\n[4] https://www.giberaagruppe.dk/files/2019-09/Samr%C3%A5dsbl
 anket - blank_0.docx\n
URL:https://www.giberaagruppe.dk/begivenhed/plan-og-plus-efteraar-2025
DTSTART:20251011T070000Z
DTEND:20251018T140000Z
LOCATION:Giber Å Gruppe\, Nymarksvej 4\, 8320 Mårslet
END:VEVENT
BEGIN:VEVENT
UID:gruppeweb.dk:7215:event:413
DTSTAMP:20260421T084026Z
LAST-MODIFIED:20251023T173626Z
SUMMARY:Tilmelding FMLL 2025
DESCRIPTION:======== Kære spejdere\, =====================================
 ================\n\nFlagermuslygteløbet er endnu engang tilbage og det er
  tid til at dyste mod  \nen masse andre tropsspejdere i årets fedeste nat
 løb. \n\n======== Hvad er flagermusløgteløbet? =======================
 ===============\n\nFlagermuslygteløbet er et stort natløb for tropsspejd
 ere.\n\nLøbet består af bemandede og døde poster fordelt rundt omkring 
 i skovene  \nsyd for Aarhus. Hele løbet foregår om natten\, hvor jeres  
 \nspejderfærdigheder\, fantasi og samarbejdsevner i patruljen bliver sat 
 på  \nprøve. \n\nDet er en god idé at træne kort og kompas inden løb
 et\, da alle løbets  \nposter skal findes på den måde.\n\n======== Prak
 tisk info  =====================================================\n\nFlage
 rmuslygteløbet begynder lørdag den 1 november kl. 18:00 og slutter  \ns
 øndag morgen den 2 november kl. 5:30. Løbet starter og slutter i  \nakti
 vitetsgården ved Moesgård Museum (Moesgård Allé 15\, 8270 Højbjerg).\
 n\n======== Huskeliste  =================================================
 =======\n\n * - 360° kompas\n   \n * - Overhead tusser\, der kan tegne p
 å laminerede kort. \n   \n * - Minimum én mobil pr. patrulje\, fuldt op
 ladet + power bank. (Mobilen\n   sikrer\, at patruljerne kan kontakte løb
 sledelsen for hjælp\, hvis de får\n   brug for   det)\n   \n * - Lineal\
 , minimum 20 cm.\n   \n * - Lommeregner (mobilen må gerne benyttes til de
 tte) \n   \n * - Gode lommelygter (evt. med ekstra batterier)\n   \n * - 
 Papir og blyant/kuglepen\n   \n * - Varmt tøj + regntøj \n   \n * - God
 e sko/støvler\, da I skal bevæge jer 10-12 km i forskelligt terræn\n   
 \n * - Madpakke\, snacks og drikkedunk til at holde sig kørende på i lø
 bet af\n   natten\n   \n * - Kop til varm kakao\, når løbet slutter\n   
 \n * - Refleks\n   \n\n\nPrisen for at deltage i løbet er 150 kr. Derudov
 er kan mærke købes for 10  \nkr.\nSidste tilmelding er den 22. Oktober\n
 \n
URL:https://www.giberaagruppe.dk/begivenhed/tilmelding-fmll-2025
DTSTART:20251101T170000Z
DTEND:20251102T043000Z
LOCATION:Giber Å Gruppe\, Nymarksvej 4\, 8320 Mårslet
END:VEVENT
BEGIN:VEVENT
UID:gruppeweb.dk:7215:event:417
DTSTAMP:20260421T084026Z
LAST-MODIFIED:20251102T120410Z
SUMMARY:Juletur Trop 2025
DESCRIPTION:Så er det tid til den hyggeligste tur på året\, nemlig julet
 ur\n\nPå dette års juletur skal vi en tur til Temnæs hytten.\n\nVi har 
 massere af fede aktiviter planlagt og glæder os rigtigt meget!\n\nVi skal
  sove inde\, dog skal alle medbringe et liggeunderlag\, da vi ikke ved  \n
 om der er madresser nok.\n\nDerudover skal spejderne medbringe.\n\n- Perso
 nligt pleje\n\n- Tøj til at kunne være ude en hel dag\n\n- Tøj til at v
 ære inde\n\n- Tøj til en hel weekend\n\n- Hjemmesko\n\n- Tørklæde og u
 niform\n\n- Pakke til pakkeleg (25-30kr)\n\n- Spil til hygge om aftenen\n\
 n- Nissehue\n\n-Sovegrej\n\n- Sovepose\n\n- Lagen og pude\n\n- Liggeunderl
 ag\n\n-"Fint" tøj til aftensmaden lørdag\n\n- Badetøj og håndklæde\n\
 n\nSpørgsmål skrives til \n\ntropsleder@giberågruppe.dk\n\nDerudover\,
  så ligger vi op til mobilfri weekend\, spejderne må gerne have  \nderes
  telefoner med\, men de kommer til at bo i tasken\, medmindre andet er  \n
 aftalt.\n\nArrangementet foregår fra fredag til søndag\, anden ankomst e
 nd fredag er  \nikke mulig\n\nVi opfordrer selvfølgelig også til samkør
 sel blandt spejderne.\n\n
URL:https://www.giberaagruppe.dk/begivenhed/juletur-trop-2025
DTSTART:20251128T173000Z
DTEND:20251130T100000Z
LOCATION:Temnæs\, Temnæsvej 9\, 8660 Skanderborg
END:VEVENT
BEGIN:VEVENT
UID:gruppeweb.dk:7215:event:426
DTSTAMP:20260421T084026Z
LAST-MODIFIED:20260317T140508Z
SUMMARY:Gruppetur 2026
DESCRIPTION:Så er det tid til årets gruppetur. Vi tager som sædvanlig ti
 l den  \nfantastiske spejderhytte Ryekol\, der ligger i det smukke landska
 b ved Gammel  \nRy.\n\nVi skal både lave aktiviteter i grenene og i bland
 ede patruljer på tværs  \naf alder. \nVi skal selvfølgelig også have 
 et stort lejrbål med sang og sjov.\n\nVi slutter søndag med grupperådsm
 øde\, som er gruppens generalforsamling.  \nVi  håber\, at I som foræl
 dre\, vil komme og bakke op om vores spejdergruppe  \nog de mange frivilli
 ge ledere. Indkaldelse og dagsorden til grupperådsmødet  \ner allerede u
 dsendt.\nHvis I ikke kommer til grupperådsmødet\, skal I selv aftale hje
 mtransport.\n\n \n\n\n\n*\n     Pris:*\nFamiliespejdere og Mikro pr. pers
 on: 150\,-\nAlle andre: 300\,-\nTurstart: \n\n   Mini\, Junior\, Trop og 
 Senior: Mårslet station fredag den 20. marts kl.  \n16:55\n   Haletudser\
 , Frøer og Mikro: Mårslethallen lørdag den 21. marts kl.  \n9.00 \nAfs
 lutning alle: \n\n   Søndag d. 22. marts kl. 11.30\nRyekol\, Galgebakken
  12\, Gammel Ry\, 8680 Ry. \n \n*Medbring:*Uniform og tørklæde – Sov
 epose og lagen – Varmt tøj og  \nudetøj alt efter vejret (vi skal vær
 e en del ude) – Indesko –  \nLejrbålskappe og sangbog (hvis du har) 
 – Lommelygte.\nAftensmad fredag bliver først\, når vi kommer frem til 
 hytten omkring 19.30\,  \nså medbring evt. en lille snack til turen.\nJun
 ior\, Trop og Klan sover i telt så husk varm sovepose og liggeunderlag  \
 nsamt service.\n \n
URL:https://www.giberaagruppe.dk/begivenhed/gruppetur-2026
DTSTART:20260320T160000Z
DTEND:20260322T103000Z
LOCATION:Ryekol\, Galgebakken 12\, Gammel Ry\, 8680 Ry
END:VEVENT
END:VCALENDAR
